BEGIN:VCALENDAR
VERSION:2.0
PRODID:-//Prince George&#039;s County Muslim Council - ECPv6.15.11//NONSGML v1.0//EN
CALSCALE:GREGORIAN
METHOD:PUBLISH
X-ORIGINAL-URL:https://pgcmc.org
X-WR-CALDESC:Events for Prince George&#039;s County Muslim Council
REFRESH-INTERVAL;VALUE=DURATION:PT1H
X-Robots-Tag:noindex
X-PUBLISHED-TTL:PT1H
BEGIN:VTIMEZONE
TZID:America/New_York
BEGIN:DAYLIGHT
TZOFFSETFROM:-0500
TZOFFSETTO:-0400
TZNAME:EDT
DTSTART:20230312T070000
END:DAYLIGHT
BEGIN:STANDARD
TZOFFSETFROM:-0400
TZOFFSETTO:-0500
TZNAME:EST
DTSTART:20231105T060000
END:STANDARD
BEGIN:DAYLIGHT
TZOFFSETFROM:-0500
TZOFFSETTO:-0400
TZNAME:EDT
DTSTART:20240310T070000
END:DAYLIGHT
BEGIN:STANDARD
TZOFFSETFROM:-0400
TZOFFSETTO:-0500
TZNAME:EST
DTSTART:20241103T060000
END:STANDARD
BEGIN:DAYLIGHT
TZOFFSETFROM:-0500
TZOFFSETTO:-0400
TZNAME:EDT
DTSTART:20250309T070000
END:DAYLIGHT
BEGIN:STANDARD
TZOFFSETFROM:-0400
TZOFFSETTO:-0500
TZNAME:EST
DTSTART:20251102T060000
END:STANDARD
END:VTIMEZONE
BEGIN:VEVENT
DTSTART;TZID=America/New_York:20240226T173000
DTEND;TZID=America/New_York:20240226T200000
DTSTAMP:20260422T010638
CREATED:20240214T041647Z
LAST-MODIFIED:20240214T041805Z
UID:863-1708968600-1708977600@pgcmc.org
SUMMARY:Maryland Muslim Lobby Day 2024
DESCRIPTION:Join Muslims Statewide to Engage our Elected Representatives \nRegister Here: \nhttps://bit.ly/2024lobbyday \n 
URL:https://pgcmc.org/event/maryland-muslim-lobby-day-2024/
LOCATION:Maryland House of Delegates\, 6 Bladen Street\, Room 207\, Annapolis\, MD\, 21401\, United States
END:VEVENT
END:VCALENDAR