BEGIN:VCALENDAR
VERSION:2.0
PRODID:-//Prince George&#039;s County Muslim Council - ECPv6.15.11//NONSGML v1.0//EN
CALSCALE:GREGORIAN
METHOD:PUBLISH
X-WR-CALNAME:Prince George&#039;s County Muslim Council
X-ORIGINAL-URL:https://pgcmc.org
X-WR-CALDESC:Events for Prince George&#039;s County Muslim Council
REFRESH-INTERVAL;VALUE=DURATION:PT1H
X-Robots-Tag:noindex
X-PUBLISHED-TTL:PT1H
BEGIN:VTIMEZONE
TZID:America/New_York
BEGIN:DAYLIGHT
TZOFFSETFROM:-0500
TZOFFSETTO:-0400
TZNAME:EDT
DTSTART:20230312T070000
END:DAYLIGHT
BEGIN:STANDARD
TZOFFSETFROM:-0400
TZOFFSETTO:-0500
TZNAME:EST
DTSTART:20231105T060000
END:STANDARD
BEGIN:DAYLIGHT
TZOFFSETFROM:-0500
TZOFFSETTO:-0400
TZNAME:EDT
DTSTART:20240310T070000
END:DAYLIGHT
BEGIN:STANDARD
TZOFFSETFROM:-0400
TZOFFSETTO:-0500
TZNAME:EST
DTSTART:20241103T060000
END:STANDARD
BEGIN:DAYLIGHT
TZOFFSETFROM:-0500
TZOFFSETTO:-0400
TZNAME:EDT
DTSTART:20250309T070000
END:DAYLIGHT
BEGIN:STANDARD
TZOFFSETFROM:-0400
TZOFFSETTO:-0500
TZNAME:EST
DTSTART:20251102T060000
END:STANDARD
END:VTIMEZONE
BEGIN:VEVENT
DTSTART;TZID=America/New_York:20241005T164500
DTEND;TZID=America/New_York:20241005T180000
DTSTAMP:20260421T135911
CREATED:20240927T232948Z
LAST-MODIFIED:20241002T143520Z
UID:1215-1728146700-1728151200@pgcmc.org
SUMMARY:"A Conversation with Governor Wes Moore"
DESCRIPTION:Prince George’s County Muslim Council\ninvites you to attend\n “A Conversation with Maryland Governor Wes Moore”\nA Discussion on the Governor’s Agenda and\nthe Civic Involvement of the Muslim Community
URL:https://pgcmc.org/event/a-conversation-with-governor-wes-moore/
LOCATION:Prince George’s Muslim Association\, 9150 Lanham-Severn Road\, Lanham\, MD\, 20706\, United States
ORGANIZER;CN="Prince George's County Muslim Council":MAILTO:info@pgcmc.org
END:VEVENT
END:VCALENDAR