BEGIN:VCALENDAR
VERSION:2.0
PRODID:-//Prince George&#039;s County Muslim Council - ECPv6.15.11//NONSGML v1.0//EN
CALSCALE:GREGORIAN
METHOD:PUBLISH
X-WR-CALNAME:Prince George&#039;s County Muslim Council
X-ORIGINAL-URL:https://pgcmc.org
X-WR-CALDESC:Events for Prince George&#039;s County Muslim Council
REFRESH-INTERVAL;VALUE=DURATION:PT1H
X-Robots-Tag:noindex
X-PUBLISHED-TTL:PT1H
BEGIN:VTIMEZONE
TZID:America/New_York
BEGIN:DAYLIGHT
TZOFFSETFROM:-0500
TZOFFSETTO:-0400
TZNAME:EDT
DTSTART:20230312T070000
END:DAYLIGHT
BEGIN:STANDARD
TZOFFSETFROM:-0400
TZOFFSETTO:-0500
TZNAME:EST
DTSTART:20231105T060000
END:STANDARD
BEGIN:DAYLIGHT
TZOFFSETFROM:-0500
TZOFFSETTO:-0400
TZNAME:EDT
DTSTART:20240310T070000
END:DAYLIGHT
BEGIN:STANDARD
TZOFFSETFROM:-0400
TZOFFSETTO:-0500
TZNAME:EST
DTSTART:20241103T060000
END:STANDARD
BEGIN:DAYLIGHT
TZOFFSETFROM:-0500
TZOFFSETTO:-0400
TZNAME:EDT
DTSTART:20250309T070000
END:DAYLIGHT
BEGIN:STANDARD
TZOFFSETFROM:-0400
TZOFFSETTO:-0500
TZNAME:EST
DTSTART:20251102T060000
END:STANDARD
END:VTIMEZONE
BEGIN:VEVENT
DTSTART;TZID=America/New_York:20241207T170000
DTEND;TZID=America/New_York:20241207T200000
DTSTAMP:20260421T103850
CREATED:20241112T040126Z
LAST-MODIFIED:20241112T040126Z
UID:1418-1733590800-1733601600@pgcmc.org
SUMMARY:Rooted in Revelation\, Rising to the Sky
DESCRIPTION:Dar-Us-Salaam’s 30th Year\nAnniversary Community Banquet\n 
URL:https://pgcmc.org/event/rooted-in-revelation-rising-to-the-sky/
LOCATION:Eleanor Roosevelt High School\, 7601 Hanover Parkway\, Greenbelt\, 20770\, United States
END:VEVENT
END:VCALENDAR