BEGIN:VCALENDAR
VERSION:2.0
PRODID:-//Prince George&#039;s County Muslim Council - ECPv6.15.11//NONSGML v1.0//EN
CALSCALE:GREGORIAN
METHOD:PUBLISH
X-WR-CALNAME:Prince George&#039;s County Muslim Council
X-ORIGINAL-URL:https://pgcmc.org
X-WR-CALDESC:Events for Prince George&#039;s County Muslim Council
REFRESH-INTERVAL;VALUE=DURATION:PT1H
X-Robots-Tag:noindex
X-PUBLISHED-TTL:PT1H
BEGIN:VTIMEZONE
TZID:America/New_York
BEGIN:DAYLIGHT
TZOFFSETFROM:-0500
TZOFFSETTO:-0400
TZNAME:EDT
DTSTART:20230312T070000
END:DAYLIGHT
BEGIN:STANDARD
TZOFFSETFROM:-0400
TZOFFSETTO:-0500
TZNAME:EST
DTSTART:20231105T060000
END:STANDARD
BEGIN:DAYLIGHT
TZOFFSETFROM:-0500
TZOFFSETTO:-0400
TZNAME:EDT
DTSTART:20240310T070000
END:DAYLIGHT
BEGIN:STANDARD
TZOFFSETFROM:-0400
TZOFFSETTO:-0500
TZNAME:EST
DTSTART:20241103T060000
END:STANDARD
BEGIN:DAYLIGHT
TZOFFSETFROM:-0500
TZOFFSETTO:-0400
TZNAME:EDT
DTSTART:20250309T070000
END:DAYLIGHT
BEGIN:STANDARD
TZOFFSETFROM:-0400
TZOFFSETTO:-0500
TZNAME:EST
DTSTART:20251102T060000
END:STANDARD
BEGIN:DAYLIGHT
TZOFFSETFROM:-0500
TZOFFSETTO:-0400
TZNAME:EDT
DTSTART:20260308T070000
END:DAYLIGHT
BEGIN:STANDARD
TZOFFSETFROM:-0400
TZOFFSETTO:-0500
TZNAME:EST
DTSTART:20261101T060000
END:STANDARD
END:VTIMEZONE
BEGIN:VEVENT
DTSTART;TZID=America/New_York:20240721T110000
DTEND;TZID=America/New_York:20240721T130000
DTSTAMP:20260421T213737
CREATED:20240717T043025Z
LAST-MODIFIED:20240717T043025Z
UID:1131-1721559600-1721566800@pgcmc.org
SUMMARY:Youth Empowerment Workshop
DESCRIPTION:  \nSierra Leone Muslim Jamaat\nYouth Empowerment Workshop and Inter-Faith Panel Discussion\nSunday\, July 21\, 2024 11AM to 1 PM\n3307 Hubbard Road\, Hyattesville\, MD
URL:https://pgcmc.org/event/youth-empowerment-workshop/
LOCATION:Sierra Leone Muslim Jamaat\, 3307 Hubbard Road\, Hyattsville\, MD\, 20785\, United States
END:VEVENT
BEGIN:VEVENT
DTSTART;TZID=America/New_York:20240726T190000
DTEND;TZID=America/New_York:20240726T203000
DTSTAMP:20260421T213737
CREATED:20240725T053451Z
LAST-MODIFIED:20240725T053451Z
UID:1138-1722020400-1722025800@pgcmc.org
SUMMARY:County Council at Large Candidates Forum
DESCRIPTION:
URL:https://pgcmc.org/event/county-council-at-large-candidates-forum/
LOCATION:Prince George’s Muslim Association\, 9150 Lanham-Severn Road\, Lanham\, MD\, 20706\, United States
ORGANIZER;CN="Prince George's County Muslim Council":MAILTO:info@pgcmc.org
END:VEVENT
BEGIN:VEVENT
DTSTART;TZID=America/New_York:20241005T164500
DTEND;TZID=America/New_York:20241005T180000
DTSTAMP:20260421T213737
CREATED:20240927T232948Z
LAST-MODIFIED:20241002T143520Z
UID:1215-1728146700-1728151200@pgcmc.org
SUMMARY:"A Conversation with Governor Wes Moore"
DESCRIPTION:Prince George’s County Muslim Council\ninvites you to attend\n “A Conversation with Maryland Governor Wes Moore”\nA Discussion on the Governor’s Agenda and\nthe Civic Involvement of the Muslim Community
URL:https://pgcmc.org/event/a-conversation-with-governor-wes-moore/
LOCATION:Prince George’s Muslim Association\, 9150 Lanham-Severn Road\, Lanham\, MD\, 20706\, United States
ORGANIZER;CN="Prince George's County Muslim Council":MAILTO:info@pgcmc.org
END:VEVENT
BEGIN:VEVENT
DTSTART;TZID=America/New_York:20241011T130000
DTEND;TZID=America/New_York:20241011T140000
DTSTAMP:20260421T213737
CREATED:20241002T152952Z
LAST-MODIFIED:20241002T152952Z
UID:1248-1728651600-1728655200@pgcmc.org
SUMMARY:"Civic Responsibility as Black Muslims to Vote" a Jummah Khutba
DESCRIPTION:“Civic Responsibility as Black Muslims to Vote” a Jummah Khutba by Imam Teslim
URL:https://pgcmc.org/event/civic-responsibility-as-black-muslims-to-vote-a-jummah-khutba/
LOCATION:Sierra Leone Muslim Jamaat\, 3307 Hubbard Road\, Hyattsville\, MD\, 20785\, United States
END:VEVENT
BEGIN:VEVENT
DTSTART;TZID=America/New_York:20241019T190000
DTEND;TZID=America/New_York:20241019T210000
DTSTAMP:20260421T213737
CREATED:20240915T033545Z
LAST-MODIFIED:20240915T033545Z
UID:1160-1729364400-1729371600@pgcmc.org
SUMMARY:PGCMC Annual Fundraising Dinner
DESCRIPTION:Prince George’s County Muslim Council\nAnnual Fundraising Dinner\n“Committed to Community Through Civic Responsibility”\nfeaturing as Keynote Speaker\nDr. Yusef Salaam\nNew York City Councilmember
URL:https://pgcmc.org/event/pgcmc-annual-fundraising-dinner/
LOCATION:Meetup PG\, 4400 Forbes Boulevard\, Lanham\, MD\, 20706\, United States
ORGANIZER;CN="Prince George's County Muslim Council":MAILTO:info@pgcmc.org
END:VEVENT
BEGIN:VEVENT
DTSTART;TZID=America/New_York:20241207T170000
DTEND;TZID=America/New_York:20241207T200000
DTSTAMP:20260421T213737
CREATED:20241112T040126Z
LAST-MODIFIED:20241112T040126Z
UID:1418-1733590800-1733601600@pgcmc.org
SUMMARY:Rooted in Revelation\, Rising to the Sky
DESCRIPTION:Dar-Us-Salaam’s 30th Year\nAnniversary Community Banquet\n 
URL:https://pgcmc.org/event/rooted-in-revelation-rising-to-the-sky/
LOCATION:Eleanor Roosevelt High School\, 7601 Hanover Parkway\, Greenbelt\, 20770\, United States
END:VEVENT
BEGIN:VEVENT
DTSTART;TZID=America/New_York:20241220T120000
DTEND;TZID=America/New_York:20241222T120000
DTSTAMP:20260421T213737
CREATED:20241112T042123Z
LAST-MODIFIED:20241112T042123Z
UID:1422-1734696000-1734868800@pgcmc.org
SUMMARY:Thriving Together: A Family and Community Retreat
DESCRIPTION:  \nBuilding Strong Family Ties\nThrough Community
URL:https://pgcmc.org/event/thriving-together-a-family-and-community-retreat/
LOCATION:Holiday Inn & Suites Ocean City\, 1701 Atlantic Avenue\, Ocean City\, MD\, 21842\, United States
END:VEVENT
BEGIN:VEVENT
DTSTART;TZID=America/New_York:20250409T180000
DTEND;TZID=America/New_York:20250409T200000
DTSTAMP:20260421T213737
CREATED:20250403T021939Z
LAST-MODIFIED:20250403T023534Z
UID:1499-1744221600-1744228800@pgcmc.org
SUMMARY:Business Roundtable Dinner with Maryland Comptroller Brooke Lierman
DESCRIPTION:An opportunity to hear from the Comptroller of Maryland regarding business tax issues\, contracting\, licensing and other issues. \nSeating is limited.
URL:https://pgcmc.org/event/business-roundtable-dinner-with-maryland-comptroller-brooke-lierman/
LOCATION:Al Madina Restaurant\, 9023 Annapolis Road\, Lanham\, MD\, 20706\, United States
END:VEVENT
BEGIN:VEVENT
DTSTART;TZID=America/New_York:20250623T080000
DTEND;TZID=America/New_York:20250623T130000
DTSTAMP:20260421T213737
CREATED:20250505T184450Z
LAST-MODIFIED:20250505T184450Z
UID:1602-1750665600-1750683600@pgcmc.org
SUMMARY:"Hit Em Long" PGCMCF Annual Golf Tournament
DESCRIPTION:PGCMC Foundation Annual Golf Tournament\nMonday\, June 23\, 2025\nLake Presidential Golf Club\n3151 Presidential Golf Drive\, Upper Marlboro\, MD\n8:00 AM Shotgun Start (scramble format)\nRegister Here\nFor more information Email: Info@pgcmc.org
URL:https://pgcmc.org/event/hit-em-long-pgcmcf-annual-golf-tournament/
LOCATION:Lake Presidential Golf Club\, 3151 Presidential Golf Drive\, Upper Marlboro\, MD\, 20774\, United States
ATTACH;FMTTYPE=image/jpeg:https://pgcmc.org/wp-content/uploads/2024/05/qtq80-po4epI-scaled.jpeg
END:VEVENT
BEGIN:VEVENT
DTSTART;TZID=America/New_York:20250928T140000
DTEND;TZID=America/New_York:20250928T180000
DTSTAMP:20260421T213737
CREATED:20250910T025531Z
LAST-MODIFIED:20250910T025531Z
UID:1714-1759068000-1759082400@pgcmc.org
SUMMARY:"Build Your Home in Jannah" Masjid Al Hikma Fundraiser
DESCRIPTION:
URL:https://pgcmc.org/event/build-your-home-in-jannah-masjid-al-hikma-fundraiser/
LOCATION:Harborside Hotel\, 6400 Oxon Hill Road\, Oxon Hill\, MD\, United States
ATTACH;FMTTYPE=image/jpeg:https://pgcmc.org/wp-content/uploads/2025/09/Masjid-Al-Hikma-Fundraiser.jpg
END:VEVENT
END:VCALENDAR