BEGIN:VCALENDAR
VERSION:2.0
PRODID:-//Prince George&#039;s County Muslim Council - ECPv6.15.11//NONSGML v1.0//EN
CALSCALE:GREGORIAN
METHOD:PUBLISH
X-WR-CALNAME:Prince George&#039;s County Muslim Council
X-ORIGINAL-URL:https://pgcmc.org
X-WR-CALDESC:Events for Prince George&#039;s County Muslim Council
REFRESH-INTERVAL;VALUE=DURATION:PT1H
X-Robots-Tag:noindex
X-PUBLISHED-TTL:PT1H
BEGIN:VTIMEZONE
TZID:America/New_York
BEGIN:DAYLIGHT
TZOFFSETFROM:-0500
TZOFFSETTO:-0400
TZNAME:EDT
DTSTART:20220313T070000
END:DAYLIGHT
BEGIN:STANDARD
TZOFFSETFROM:-0400
TZOFFSETTO:-0500
TZNAME:EST
DTSTART:20221106T060000
END:STANDARD
BEGIN:DAYLIGHT
TZOFFSETFROM:-0500
TZOFFSETTO:-0400
TZNAME:EDT
DTSTART:20230312T070000
END:DAYLIGHT
BEGIN:STANDARD
TZOFFSETFROM:-0400
TZOFFSETTO:-0500
TZNAME:EST
DTSTART:20231105T060000
END:STANDARD
BEGIN:DAYLIGHT
TZOFFSETFROM:-0500
TZOFFSETTO:-0400
TZNAME:EDT
DTSTART:20240310T070000
END:DAYLIGHT
BEGIN:STANDARD
TZOFFSETFROM:-0400
TZOFFSETTO:-0500
TZNAME:EST
DTSTART:20241103T060000
END:STANDARD
BEGIN:DAYLIGHT
TZOFFSETFROM:-0500
TZOFFSETTO:-0400
TZNAME:EDT
DTSTART:20250309T070000
END:DAYLIGHT
BEGIN:STANDARD
TZOFFSETFROM:-0400
TZOFFSETTO:-0500
TZNAME:EST
DTSTART:20251102T060000
END:STANDARD
END:VTIMEZONE
BEGIN:VTIMEZONE
TZID:UTC
BEGIN:STANDARD
TZOFFSETFROM:+0000
TZOFFSETTO:+0000
TZNAME:UTC
DTSTART:20220101T000000
END:STANDARD
END:VTIMEZONE
BEGIN:VEVENT
DTSTART;TZID=America/New_York:20240127T130000
DTEND;TZID=America/New_York:20240127T150000
DTSTAMP:20260421T215650
CREATED:20240123T000553Z
LAST-MODIFIED:20240123T000553Z
UID:839-1706360400-1706367600@pgcmc.org
SUMMARY:Councilmember Wala Blegay Muslim Townhall
DESCRIPTION:
URL:https://pgcmc.org/event/councilmember-wala-blegay-muslim-townhall/
LOCATION:Diyanet Center of America\, 9610 Good Luck Road\, Lanham\, MD\, 20706\, United States
END:VEVENT
BEGIN:VEVENT
DTSTART;TZID=America/New_York:20231104T183000
DTEND;TZID=America/New_York:20231104T210000
DTSTAMP:20260421T215650
CREATED:20230911T012835Z
LAST-MODIFIED:20240214T074906Z
UID:605-1699122600-1699131600@pgcmc.org
SUMMARY:PGCMC Community Fundraising Dinner
DESCRIPTION:SOLD OUT\n\nPGCMC Community Fundraising Dinner\nEmpowering Our Community Through Civic Engagement\nSaturday\, November 4\, 2023\n  \nPlatinum Sponsor VIP Reception \n6:30 – 7:30 PM \nDinner and Program \n7:30 – 9:00 \nKeynote Speaker\nCounty Executive and Candidate for Senate\nAngela Alsobrooks\nDiyanet Center of America – Ottoman Room\n9610 Good Luck Road\, Lanham\, MD\nTicket Costs: \nPlatinum Sponsor – $1000: VIP Reception\, 4 Dinner Tickets\, PGCMC Swag \nGold Sponsor – $500: 2 Dinner Tickets\, PGCMC Swag \nGeneral Admission – $40/Ticket \nFamily of Four – $150 for Four Tickets
URL:https://pgcmc.org/event/pgcmc-community-fundraising-dinner/
LOCATION:Diyanet Center of America\, 9610 Good Luck Road\, Lanham\, MD\, 20706\, United States
ORGANIZER;CN="Prince George's County Muslim Council":MAILTO:info@pgcmc.org
END:VEVENT
BEGIN:VEVENT
DTSTART;TZID=America/New_York:20230908T170000
DTEND;TZID=America/New_York:20230908T200000
DTSTAMP:20260421T215650
CREATED:20230907T042456Z
LAST-MODIFIED:20230907T042456Z
UID:581-1694192400-1694203200@pgcmc.org
SUMMARY:Inaugural Event - Islamic Humanitarian Center
DESCRIPTION:
URL:https://pgcmc.org/event/inaugural-event-islamic-humanitarian-center/
LOCATION:Brooke Road Recreation Center\, 1101 Brooke Road\, Capital Heights\, 20743\, United States
END:VEVENT
BEGIN:VEVENT
DTSTART;TZID=UTC:20230501T060000
DTEND;TZID=UTC:20230531T120000
DTSTAMP:20260421T215650
CREATED:20230429T223259Z
LAST-MODIFIED:20230429T230227Z
UID:165-1682920800-1685534400@pgcmc.org
SUMMARY:Placeholder Event
DESCRIPTION:Placeholder Event
URL:https://pgcmc.org/event/placeholder-event/
LOCATION:MD
CATEGORIES:Events
END:VEVENT
BEGIN:VEVENT
DTSTART;TZID=UTC:20230501T060000
DTEND;TZID=UTC:20230531T120000
DTSTAMP:20260421T215650
CREATED:20230429T223259Z
LAST-MODIFIED:20230429T230227Z
UID:165-1682920800-1685534400@pgcmc.org
SUMMARY:Placeholder Event
DESCRIPTION:Placeholder Event
URL:https://pgcmc.org/event/placeholder-event/
LOCATION:MD
CATEGORIES:Events
END:VEVENT
BEGIN:VEVENT
DTSTART;TZID=UTC:20230501T060000
DTEND;TZID=UTC:20230531T120000
DTSTAMP:20260421T215650
CREATED:20230429T223259Z
LAST-MODIFIED:20230429T230227Z
UID:165-1682920800-1685534400@pgcmc.org
SUMMARY:Placeholder Event
DESCRIPTION:Placeholder Event
URL:https://pgcmc.org/event/placeholder-event/
LOCATION:MD
CATEGORIES:Events
END:VEVENT
BEGIN:VEVENT
DTSTART;TZID=UTC:20230501T060000
DTEND;TZID=UTC:20230531T120000
DTSTAMP:20260421T215650
CREATED:20230429T223259Z
LAST-MODIFIED:20230429T230227Z
UID:165-1682920800-1685534400@pgcmc.org
SUMMARY:Placeholder Event
DESCRIPTION:Placeholder Event
URL:https://pgcmc.org/event/placeholder-event/
LOCATION:MD
CATEGORIES:Events
END:VEVENT
BEGIN:VEVENT
DTSTART;TZID=UTC:20230501T060000
DTEND;TZID=UTC:20230531T120000
DTSTAMP:20260421T215650
CREATED:20230429T223259Z
LAST-MODIFIED:20230429T230227Z
UID:165-1682920800-1685534400@pgcmc.org
SUMMARY:Placeholder Event
DESCRIPTION:Placeholder Event
URL:https://pgcmc.org/event/placeholder-event/
LOCATION:MD
CATEGORIES:Events
END:VEVENT
BEGIN:VEVENT
DTSTART;TZID=UTC:20230501T060000
DTEND;TZID=UTC:20230531T120000
DTSTAMP:20260421T215650
CREATED:20230429T223259Z
LAST-MODIFIED:20230429T230227Z
UID:165-1682920800-1685534400@pgcmc.org
SUMMARY:Placeholder Event
DESCRIPTION:Placeholder Event
URL:https://pgcmc.org/event/placeholder-event/
LOCATION:MD
CATEGORIES:Events
END:VEVENT
BEGIN:VEVENT
DTSTART;TZID=UTC:20230501T060000
DTEND;TZID=UTC:20230531T120000
DTSTAMP:20260421T215650
CREATED:20230429T223259Z
LAST-MODIFIED:20230429T230227Z
UID:165-1682920800-1685534400@pgcmc.org
SUMMARY:Placeholder Event
DESCRIPTION:Placeholder Event
URL:https://pgcmc.org/event/placeholder-event/
LOCATION:MD
CATEGORIES:Events
END:VEVENT
BEGIN:VEVENT
DTSTART;TZID=UTC:20230501T060000
DTEND;TZID=UTC:20230531T120000
DTSTAMP:20260421T215650
CREATED:20230429T223259Z
LAST-MODIFIED:20230429T230227Z
UID:165-1682920800-1685534400@pgcmc.org
SUMMARY:Placeholder Event
DESCRIPTION:Placeholder Event
URL:https://pgcmc.org/event/placeholder-event/
LOCATION:MD
CATEGORIES:Events
END:VEVENT
BEGIN:VEVENT
DTSTART;TZID=UTC:20230501T060000
DTEND;TZID=UTC:20230531T120000
DTSTAMP:20260421T215650
CREATED:20230429T223259Z
LAST-MODIFIED:20230429T230227Z
UID:165-1682920800-1685534400@pgcmc.org
SUMMARY:Placeholder Event
DESCRIPTION:Placeholder Event
URL:https://pgcmc.org/event/placeholder-event/
LOCATION:MD
CATEGORIES:Events
END:VEVENT
BEGIN:VEVENT
DTSTART;TZID=UTC:20230501T060000
DTEND;TZID=UTC:20230531T120000
DTSTAMP:20260421T215650
CREATED:20230429T223259Z
LAST-MODIFIED:20230429T230227Z
UID:165-1682920800-1685534400@pgcmc.org
SUMMARY:Placeholder Event
DESCRIPTION:Placeholder Event
URL:https://pgcmc.org/event/placeholder-event/
LOCATION:MD
CATEGORIES:Events
END:VEVENT
BEGIN:VEVENT
DTSTART;TZID=UTC:20230501T060000
DTEND;TZID=UTC:20230531T120000
DTSTAMP:20260421T215650
CREATED:20230429T223259Z
LAST-MODIFIED:20230429T230227Z
UID:165-1682920800-1685534400@pgcmc.org
SUMMARY:Placeholder Event
DESCRIPTION:Placeholder Event
URL:https://pgcmc.org/event/placeholder-event/
LOCATION:MD
CATEGORIES:Events
END:VEVENT
BEGIN:VEVENT
DTSTART;TZID=UTC:20230501T060000
DTEND;TZID=UTC:20230531T120000
DTSTAMP:20260421T215650
CREATED:20230429T223259Z
LAST-MODIFIED:20230429T230227Z
UID:165-1682920800-1685534400@pgcmc.org
SUMMARY:Placeholder Event
DESCRIPTION:Placeholder Event
URL:https://pgcmc.org/event/placeholder-event/
LOCATION:MD
CATEGORIES:Events
END:VEVENT
BEGIN:VEVENT
DTSTART;TZID=UTC:20230501T060000
DTEND;TZID=UTC:20230531T120000
DTSTAMP:20260421T215650
CREATED:20230429T223259Z
LAST-MODIFIED:20230429T230227Z
UID:165-1682920800-1685534400@pgcmc.org
SUMMARY:Placeholder Event
DESCRIPTION:Placeholder Event
URL:https://pgcmc.org/event/placeholder-event/
LOCATION:MD
CATEGORIES:Events
END:VEVENT
BEGIN:VEVENT
DTSTART;TZID=UTC:20230501T060000
DTEND;TZID=UTC:20230531T120000
DTSTAMP:20260421T215650
CREATED:20230429T223259Z
LAST-MODIFIED:20230429T230227Z
UID:165-1682920800-1685534400@pgcmc.org
SUMMARY:Placeholder Event
DESCRIPTION:Placeholder Event
URL:https://pgcmc.org/event/placeholder-event/
LOCATION:MD
CATEGORIES:Events
END:VEVENT
BEGIN:VEVENT
DTSTART;TZID=UTC:20230501T060000
DTEND;TZID=UTC:20230531T120000
DTSTAMP:20260421T215650
CREATED:20230429T223259Z
LAST-MODIFIED:20230429T230227Z
UID:165-1682920800-1685534400@pgcmc.org
SUMMARY:Placeholder Event
DESCRIPTION:Placeholder Event
URL:https://pgcmc.org/event/placeholder-event/
LOCATION:MD
CATEGORIES:Events
END:VEVENT
BEGIN:VEVENT
DTSTART;TZID=UTC:20230501T060000
DTEND;TZID=UTC:20230531T120000
DTSTAMP:20260421T215650
CREATED:20230429T223259Z
LAST-MODIFIED:20230429T230227Z
UID:165-1682920800-1685534400@pgcmc.org
SUMMARY:Placeholder Event
DESCRIPTION:Placeholder Event
URL:https://pgcmc.org/event/placeholder-event/
LOCATION:MD
CATEGORIES:Events
END:VEVENT
BEGIN:VEVENT
DTSTART;TZID=UTC:20230501T060000
DTEND;TZID=UTC:20230531T120000
DTSTAMP:20260421T215650
CREATED:20230429T223259Z
LAST-MODIFIED:20230429T230227Z
UID:165-1682920800-1685534400@pgcmc.org
SUMMARY:Placeholder Event
DESCRIPTION:Placeholder Event
URL:https://pgcmc.org/event/placeholder-event/
LOCATION:MD
CATEGORIES:Events
END:VEVENT
BEGIN:VEVENT
DTSTART;TZID=UTC:20230501T060000
DTEND;TZID=UTC:20230531T120000
DTSTAMP:20260421T215650
CREATED:20230429T223259Z
LAST-MODIFIED:20230429T230227Z
UID:165-1682920800-1685534400@pgcmc.org
SUMMARY:Placeholder Event
DESCRIPTION:Placeholder Event
URL:https://pgcmc.org/event/placeholder-event/
LOCATION:MD
CATEGORIES:Events
END:VEVENT
BEGIN:VEVENT
DTSTART;TZID=UTC:20230501T060000
DTEND;TZID=UTC:20230531T120000
DTSTAMP:20260421T215650
CREATED:20230429T223259Z
LAST-MODIFIED:20230429T230227Z
UID:165-1682920800-1685534400@pgcmc.org
SUMMARY:Placeholder Event
DESCRIPTION:Placeholder Event
URL:https://pgcmc.org/event/placeholder-event/
LOCATION:MD
CATEGORIES:Events
END:VEVENT
BEGIN:VEVENT
DTSTART;TZID=UTC:20230501T060000
DTEND;TZID=UTC:20230531T120000
DTSTAMP:20260421T215650
CREATED:20230429T223259Z
LAST-MODIFIED:20230429T230227Z
UID:165-1682920800-1685534400@pgcmc.org
SUMMARY:Placeholder Event
DESCRIPTION:Placeholder Event
URL:https://pgcmc.org/event/placeholder-event/
LOCATION:MD
CATEGORIES:Events
END:VEVENT
BEGIN:VEVENT
DTSTART;TZID=UTC:20230501T060000
DTEND;TZID=UTC:20230531T120000
DTSTAMP:20260421T215650
CREATED:20230429T223259Z
LAST-MODIFIED:20230429T230227Z
UID:165-1682920800-1685534400@pgcmc.org
SUMMARY:Placeholder Event
DESCRIPTION:Placeholder Event
URL:https://pgcmc.org/event/placeholder-event/
LOCATION:MD
CATEGORIES:Events
END:VEVENT
BEGIN:VEVENT
DTSTART;TZID=UTC:20230501T060000
DTEND;TZID=UTC:20230531T120000
DTSTAMP:20260421T215650
CREATED:20230429T223259Z
LAST-MODIFIED:20230429T230227Z
UID:165-1682920800-1685534400@pgcmc.org
SUMMARY:Placeholder Event
DESCRIPTION:Placeholder Event
URL:https://pgcmc.org/event/placeholder-event/
LOCATION:MD
CATEGORIES:Events
END:VEVENT
BEGIN:VEVENT
DTSTART;TZID=UTC:20230501T060000
DTEND;TZID=UTC:20230531T120000
DTSTAMP:20260421T215650
CREATED:20230429T223259Z
LAST-MODIFIED:20230429T230227Z
UID:165-1682920800-1685534400@pgcmc.org
SUMMARY:Placeholder Event
DESCRIPTION:Placeholder Event
URL:https://pgcmc.org/event/placeholder-event/
LOCATION:MD
CATEGORIES:Events
END:VEVENT
BEGIN:VEVENT
DTSTART;TZID=UTC:20230501T060000
DTEND;TZID=UTC:20230531T120000
DTSTAMP:20260421T215650
CREATED:20230429T223259Z
LAST-MODIFIED:20230429T230227Z
UID:165-1682920800-1685534400@pgcmc.org
SUMMARY:Placeholder Event
DESCRIPTION:Placeholder Event
URL:https://pgcmc.org/event/placeholder-event/
LOCATION:MD
CATEGORIES:Events
END:VEVENT
BEGIN:VEVENT
DTSTART;TZID=UTC:20230501T060000
DTEND;TZID=UTC:20230531T120000
DTSTAMP:20260421T215650
CREATED:20230429T223259Z
LAST-MODIFIED:20230429T230227Z
UID:165-1682920800-1685534400@pgcmc.org
SUMMARY:Placeholder Event
DESCRIPTION:Placeholder Event
URL:https://pgcmc.org/event/placeholder-event/
LOCATION:MD
CATEGORIES:Events
END:VEVENT
BEGIN:VEVENT
DTSTART;TZID=UTC:20230501T060000
DTEND;TZID=UTC:20230531T120000
DTSTAMP:20260421T215650
CREATED:20230429T223259Z
LAST-MODIFIED:20230429T230227Z
UID:165-1682920800-1685534400@pgcmc.org
SUMMARY:Placeholder Event
DESCRIPTION:Placeholder Event
URL:https://pgcmc.org/event/placeholder-event/
LOCATION:MD
CATEGORIES:Events
END:VEVENT
BEGIN:VEVENT
DTSTART;TZID=UTC:20230501T060000
DTEND;TZID=UTC:20230531T120000
DTSTAMP:20260421T215650
CREATED:20230429T223259Z
LAST-MODIFIED:20230429T230227Z
UID:165-1682920800-1685534400@pgcmc.org
SUMMARY:Placeholder Event
DESCRIPTION:Placeholder Event
URL:https://pgcmc.org/event/placeholder-event/
LOCATION:MD
CATEGORIES:Events
END:VEVENT
END:VCALENDAR