BEGIN:VCALENDAR
VERSION:2.0
PRODID:-//Prince George&#039;s County Muslim Council - ECPv6.15.11//NONSGML v1.0//EN
CALSCALE:GREGORIAN
METHOD:PUBLISH
X-WR-CALNAME:Prince George&#039;s County Muslim Council
X-ORIGINAL-URL:https://pgcmc.org
X-WR-CALDESC:Events for Prince George&#039;s County Muslim Council
REFRESH-INTERVAL;VALUE=DURATION:PT1H
X-Robots-Tag:noindex
X-PUBLISHED-TTL:PT1H
BEGIN:VTIMEZONE
TZID:America/New_York
BEGIN:DAYLIGHT
TZOFFSETFROM:-0500
TZOFFSETTO:-0400
TZNAME:EDT
DTSTART:20230312T070000
END:DAYLIGHT
BEGIN:STANDARD
TZOFFSETFROM:-0400
TZOFFSETTO:-0500
TZNAME:EST
DTSTART:20231105T060000
END:STANDARD
BEGIN:DAYLIGHT
TZOFFSETFROM:-0500
TZOFFSETTO:-0400
TZNAME:EDT
DTSTART:20240310T070000
END:DAYLIGHT
BEGIN:STANDARD
TZOFFSETFROM:-0400
TZOFFSETTO:-0500
TZNAME:EST
DTSTART:20241103T060000
END:STANDARD
BEGIN:DAYLIGHT
TZOFFSETFROM:-0500
TZOFFSETTO:-0400
TZNAME:EDT
DTSTART:20250309T070000
END:DAYLIGHT
BEGIN:STANDARD
TZOFFSETFROM:-0400
TZOFFSETTO:-0500
TZNAME:EST
DTSTART:20251102T060000
END:STANDARD
END:VTIMEZONE
BEGIN:VEVENT
DTSTART;TZID=America/New_York:20240408T183000
DTEND;TZID=America/New_York:20240408T203000
DTSTAMP:20260421T214552
CREATED:20240401T030400Z
LAST-MODIFIED:20240407T185647Z
UID:981-1712601000-1712608200@pgcmc.org
SUMMARY:Iftar with County Executive Alsobrooks
DESCRIPTION:Join PGCMC for the 2nd Annual Iftar with County Executive Alsobrooks \nMonday\, April 8th 6:30 to 8:30 PM \nWayne K. Curry County Administration Building\n1301 McCormick Drive\nLargo\, MD 20772 \nFor more info email: info@pgcmc.org
URL:https://pgcmc.org/event/iftar-with-county-executive-alsobrooks/
LOCATION:Wayne K. Curry County Administration Building\, 1301 McCormick Drive\, Largo\, MD\, 20772\, United States
ORGANIZER;CN="Prince George's County Muslim Council":MAILTO:info@pgcmc.org
END:VEVENT
BEGIN:VEVENT
DTSTART;TZID=America/New_York:20240429T190000
DTEND;TZID=America/New_York:20240429T200000
DTSTAMP:20260421T214552
CREATED:20240428T184637Z
LAST-MODIFIED:20240428T184637Z
UID:1093-1714417200-1714420800@pgcmc.org
SUMMARY:Meet & Greet with Congressional District 4 Candidate Gabriel Njinimbot
DESCRIPTION:Meet & Greet with Congressional District 4 Candidate Gabriel Njinimbot\n \nMonday\, April 29\, 2024\n7:00 PM\nJoin the Conversation Here
URL:https://pgcmc.org/event/meet-greet-with-congressional-district-4-candidate-gabriel-njinimbot/
LOCATION:MD
END:VEVENT
END:VCALENDAR