BEGIN:VCALENDAR
VERSION:2.0
PRODID:-//Prince George&#039;s County Muslim Council - ECPv6.15.11//NONSGML v1.0//EN
CALSCALE:GREGORIAN
METHOD:PUBLISH
X-WR-CALNAME:Prince George&#039;s County Muslim Council
X-ORIGINAL-URL:https://pgcmc.org
X-WR-CALDESC:Events for Prince George&#039;s County Muslim Council
REFRESH-INTERVAL;VALUE=DURATION:PT1H
X-Robots-Tag:noindex
X-PUBLISHED-TTL:PT1H
BEGIN:VTIMEZONE
TZID:America/New_York
BEGIN:DAYLIGHT
TZOFFSETFROM:-0500
TZOFFSETTO:-0400
TZNAME:EDT
DTSTART:20230312T070000
END:DAYLIGHT
BEGIN:STANDARD
TZOFFSETFROM:-0400
TZOFFSETTO:-0500
TZNAME:EST
DTSTART:20231105T060000
END:STANDARD
BEGIN:DAYLIGHT
TZOFFSETFROM:-0500
TZOFFSETTO:-0400
TZNAME:EDT
DTSTART:20240310T070000
END:DAYLIGHT
BEGIN:STANDARD
TZOFFSETFROM:-0400
TZOFFSETTO:-0500
TZNAME:EST
DTSTART:20241103T060000
END:STANDARD
BEGIN:DAYLIGHT
TZOFFSETFROM:-0500
TZOFFSETTO:-0400
TZNAME:EDT
DTSTART:20250309T070000
END:DAYLIGHT
BEGIN:STANDARD
TZOFFSETFROM:-0400
TZOFFSETTO:-0500
TZNAME:EST
DTSTART:20251102T060000
END:STANDARD
END:VTIMEZONE
BEGIN:VEVENT
DTSTART;TZID=America/New_York:20240719T143000
DTEND;TZID=America/New_York:20240719T163000
DTSTAMP:20260421T171057
CREATED:20240717T005425Z
LAST-MODIFIED:20240717T005425Z
UID:1123-1721399400-1721406600@pgcmc.org
SUMMARY:Knowledge Exchange Session on Targeted Violence Prevention
DESCRIPTION:  \nJoin SLMJ and GPF\nfor a\n Knowledge Exchange Session on Targeted Violence Prevention\nFriday\, July 19\, 2024\n2:30-4:30 PM\nSierra Leone Muslim Jamaat\n3307 Hubbard Road\, Hyattsville\, MD 20785
URL:https://pgcmc.org/event/knowledge-exchange-session-on-targeted-violence-prevention/
LOCATION:Sierra Leone Muslim Jamaat\, 3307 Hubbard Road\, Hyattsville\, MD\, 20785\, United States
END:VEVENT
BEGIN:VEVENT
DTSTART;TZID=America/New_York:20240721T110000
DTEND;TZID=America/New_York:20240721T130000
DTSTAMP:20260421T171057
CREATED:20240717T043025Z
LAST-MODIFIED:20240717T043025Z
UID:1131-1721559600-1721566800@pgcmc.org
SUMMARY:Youth Empowerment Workshop
DESCRIPTION:  \nSierra Leone Muslim Jamaat\nYouth Empowerment Workshop and Inter-Faith Panel Discussion\nSunday\, July 21\, 2024 11AM to 1 PM\n3307 Hubbard Road\, Hyattesville\, MD
URL:https://pgcmc.org/event/youth-empowerment-workshop/
LOCATION:Sierra Leone Muslim Jamaat\, 3307 Hubbard Road\, Hyattsville\, MD\, 20785\, United States
END:VEVENT
BEGIN:VEVENT
DTSTART;TZID=America/New_York:20240726T190000
DTEND;TZID=America/New_York:20240726T203000
DTSTAMP:20260421T171057
CREATED:20240725T053451Z
LAST-MODIFIED:20240725T053451Z
UID:1138-1722020400-1722025800@pgcmc.org
SUMMARY:County Council at Large Candidates Forum
DESCRIPTION:
URL:https://pgcmc.org/event/county-council-at-large-candidates-forum/
LOCATION:Prince George’s Muslim Association\, 9150 Lanham-Severn Road\, Lanham\, MD\, 20706\, United States
ORGANIZER;CN="Prince George's County Muslim Council":MAILTO:info@pgcmc.org
END:VEVENT
END:VCALENDAR